BEGIN:VCALENDAR
VERSION:2.0
PRODID:spatie/icalendar-generator
NAME:The Pothole Classic: Roller Derby Tournament
X-WR-CALNAME:The Pothole Classic: Roller Derby Tournament
REFRESH-INTERVAL;VALUE=DURATION:PT720M
X-PUBLISHED-TTL:PT720M
BEGIN:VTIMEZONE
TZID:UTC
BEGIN:STANDARD
DTSTART:20250725T052030
TZOFFSETFROM:+0000
TZOFFSETTO:+0000
END:STANDARD
END:VTIMEZONE
BEGIN:VEVENT
UID:302@https://eventsinplainsight.com
DTSTAMP:20260421T052030Z
DTSTART:20260509T130000Z
DTEND:20260510T230000Z
SUMMARY:The Pothole Classic: Roller Derby Tournament
DESCRIPTION:The Pothole Classic: Roller Derby Tournament
URL:https://myderbydiary.eventsinplainsight.com/events/302
LOCATION:1400 Industrial Hwy\, Pottstown\, Pennsylvania\, United States
END:VEVENT
END:VCALENDAR