BEGIN:VCALENDAR
VERSION:2.0
PRODID:spatie/icalendar-generator
NAME:Dutchland Rollers Vs. Bay State Roller Derby
X-WR-CALNAME:Dutchland Rollers Vs. Bay State Roller Derby
REFRESH-INTERVAL;VALUE=DURATION:PT720M
X-PUBLISHED-TTL:PT720M
BEGIN:VTIMEZONE
TZID:UTC
BEGIN:STANDARD
DTSTART:20250725T061632
TZOFFSETFROM:+0000
TZOFFSETTO:+0000
END:STANDARD
END:VTIMEZONE
BEGIN:VEVENT
UID:307@https://eventsinplainsight.com
DTSTAMP:20260421T061632Z
DTSTART:20260516T213000Z
DTEND:20260517T013000Z
SUMMARY:Dutchland Rollers Vs. Bay State Roller Derby
DESCRIPTION:Dutchland Rollers Vs. Bay State Roller Derby
URL:https://myderbydiary.eventsinplainsight.com/events/307
LOCATION:301 Golf Dr\, Lancaster\, PA\, United States
END:VEVENT
END:VCALENDAR