BEGIN:VCALENDAR
VERSION:2.0
PRODID:spatie/icalendar-generator
NAME:Dutch Oven Mixer: Doubleheader
X-WR-CALNAME:Dutch Oven Mixer: Doubleheader
REFRESH-INTERVAL;VALUE=DURATION:PT720M
X-PUBLISHED-TTL:PT720M
BEGIN:VTIMEZONE
TZID:UTC
BEGIN:STANDARD
DTSTART:20250725T061756
TZOFFSETFROM:+0000
TZOFFSETTO:+0000
END:STANDARD
END:VTIMEZONE
BEGIN:VEVENT
UID:308@https://eventsinplainsight.com
DTSTAMP:20260421T061756Z
DTSTART:20260613T203000Z
DTEND:20260614T013000Z
SUMMARY:Dutch Oven Mixer: Doubleheader
DESCRIPTION:Dutch Oven Mixer: Doubleheader
URL:https://myderbydiary.eventsinplainsight.com/events/308
LOCATION:301 Golf Dr\, Lancaster\, PA\, United States
END:VEVENT
END:VCALENDAR