BEGIN:VCALENDAR
VERSION:2.0
PRODID:spatie/icalendar-generator
NAME:Home Game
X-WR-CALNAME:Home Game
REFRESH-INTERVAL;VALUE=DURATION:PT720M
X-PUBLISHED-TTL:PT720M
BEGIN:VTIMEZONE
TZID:UTC
BEGIN:STANDARD
DTSTART:20250725T061950
TZOFFSETFROM:+0000
TZOFFSETTO:+0000
END:STANDARD
END:VTIMEZONE
BEGIN:VEVENT
UID:309@https://eventsinplainsight.com
DTSTAMP:20260421T061950Z
DTSTART:20261017T213000Z
DTEND:20261017T233000Z
SUMMARY:Home Game
DESCRIPTION:Home Game
URL:https://myderbydiary.eventsinplainsight.com/events/309
LOCATION:301 Golf Dr\, Lancaster\, PA\, United States
END:VEVENT
END:VCALENDAR