BEGIN:VCALENDAR
VERSION:2.0
PRODID:spatie/icalendar-generator
NAME:Skating Official Clinic
X-WR-CALNAME:Skating Official Clinic
REFRESH-INTERVAL;VALUE=DURATION:PT720M
X-PUBLISHED-TTL:PT720M
BEGIN:VTIMEZONE
TZID:UTC
BEGIN:STANDARD
DTSTART:20250725T161452
TZOFFSETFROM:+0000
TZOFFSETTO:+0000
END:STANDARD
END:VTIMEZONE
BEGIN:VEVENT
UID:310@https://eventsinplainsight.com
DTSTAMP:20260421T161452Z
DTSTART:20260425T130000Z
DTEND:20260425T200000Z
SUMMARY:Skating Official Clinic
DESCRIPTION:Skating Official Clinic
URL:https://myderbydiary.eventsinplainsight.com/events/310
LOCATION:1440 Wallingford Rd\, Springfield\, PA\, USA
END:VEVENT
END:VCALENDAR