BEGIN:VCALENDAR
VERSION:2.0
PRODID:spatie/icalendar-generator
NAME:All-League Fundraiser Bout
X-WR-CALNAME:All-League Fundraiser Bout
REFRESH-INTERVAL;VALUE=DURATION:PT720M
X-PUBLISHED-TTL:PT720M
BEGIN:VTIMEZONE
TZID:UTC
BEGIN:STANDARD
DTSTART:20250725T171853
TZOFFSETFROM:+0000
TZOFFSETTO:+0000
END:STANDARD
END:VTIMEZONE
BEGIN:VEVENT
UID:311@https://eventsinplainsight.com
DTSTAMP:20260421T171853Z
DTSTART:20260530T160000Z
DTEND:20260530T210000Z
SUMMARY:All-League Fundraiser Bout
DESCRIPTION:All-League Fundraiser Bout
URL:https://myderbydiary.eventsinplainsight.com/events/311
LOCATION:1440 Wallingford Rd\, Springfield\, PA\, USA
END:VEVENT
END:VCALENDAR