BEGIN:VCALENDAR
VERSION:2.0
PRODID:spatie/icalendar-generator
NAME:Double Header
X-WR-CALNAME:Double Header
REFRESH-INTERVAL;VALUE=DURATION:PT720M
X-PUBLISHED-TTL:PT720M
BEGIN:VTIMEZONE
TZID:UTC
BEGIN:STANDARD
DTSTART:20250725T172638
TZOFFSETFROM:+0000
TZOFFSETTO:+0000
END:STANDARD
END:VTIMEZONE
BEGIN:VEVENT
UID:312@https://eventsinplainsight.com
DTSTAMP:20260421T172638Z
DTSTART:20260606T200000Z
DTEND:20260607T010000Z
SUMMARY:Double Header
DESCRIPTION:Double Header
URL:https://myderbydiary.eventsinplainsight.com/events/312
LOCATION:60 Southlawn Court\, Rockville\, MD\, United States
END:VEVENT
END:VCALENDAR