BEGIN:VCALENDAR
VERSION:2.0
PRODID:spatie/icalendar-generator
NAME:The Big Dig
X-WR-CALNAME:The Big Dig
REFRESH-INTERVAL;VALUE=DURATION:PT720M
X-PUBLISHED-TTL:PT720M
BEGIN:VTIMEZONE
TZID:UTC
BEGIN:STANDARD
DTSTART:20250725T172424
TZOFFSETFROM:+0000
TZOFFSETTO:+0000
END:STANDARD
END:VTIMEZONE
BEGIN:VEVENT
UID:315@https://eventsinplainsight.com
DTSTAMP:20260421T172424Z
DTSTART:20260613T130000Z
DTEND:20260615T010000Z
SUMMARY:The Big Dig
DESCRIPTION:The Big Dig
URL:https://myderbydiary.eventsinplainsight.com/events/315
LOCATION:65 Elm St\, Everett\, MA\, United States
END:VEVENT
END:VCALENDAR