BEGIN:VCALENDAR
VERSION:2.0
PRODID:spatie/icalendar-generator
NAME:Roll-Chambeau Tournament
X-WR-CALNAME:Roll-Chambeau Tournament
REFRESH-INTERVAL;VALUE=DURATION:PT720M
X-PUBLISHED-TTL:PT720M
BEGIN:VTIMEZONE
TZID:UTC
BEGIN:STANDARD
DTSTART:20250725T172717
TZOFFSETFROM:+0000
TZOFFSETTO:+0000
END:STANDARD
END:VTIMEZONE
BEGIN:VEVENT
UID:316@https://eventsinplainsight.com
DTSTAMP:20260421T172717Z
DTSTART:20260425T180000Z
DTEND:20260426T210000Z
SUMMARY:Roll-Chambeau Tournament
DESCRIPTION:Roll-Chambeau Tournament
URL:https://myderbydiary.eventsinplainsight.com/events/316
LOCATION:99 Fordham Rd\, Wilmington\, Maine\, United States
END:VEVENT
END:VCALENDAR