BEGIN:VCALENDAR
VERSION:2.0
PRODID:spatie/icalendar-generator
NAME:SPECIAL SUNDAY MORNING GAME Twin State Roller Derby vs RDG
X-WR-CALNAME:SPECIAL SUNDAY MORNING GAME Twin State Roller Derby vs RDG
REFRESH-INTERVAL;VALUE=DURATION:PT720M
X-PUBLISHED-TTL:PT720M
BEGIN:VTIMEZONE
TZID:UTC
BEGIN:STANDARD
DTSTART:20250725T172334
TZOFFSETFROM:+0000
TZOFFSETTO:+0000
END:STANDARD
END:VTIMEZONE
BEGIN:VEVENT
UID:318@https://eventsinplainsight.com
DTSTAMP:20260421T172334Z
DTSTART:20260517T130000Z
DTEND:20260517T153000Z
SUMMARY:SPECIAL SUNDAY MORNING GAME Twin State Roller Derby vs RDG
DESCRIPTION:SPECIAL SUNDAY MORNING GAME Twin State Roller Derby vs RD
URL:https://myderbydiary.eventsinplainsight.com/events/318
LOCATION:2275 Lancaster Pike\, Reading\, PA\, United States
END:VEVENT
END:VCALENDAR