BEGIN:VCALENDAR
VERSION:2.0
PRODID:spatie/icalendar-generator
NAME:Brandywine Roller Derby v RDG's B Team
X-WR-CALNAME:Brandywine Roller Derby v RDG's B Team
REFRESH-INTERVAL;VALUE=DURATION:PT720M
X-PUBLISHED-TTL:PT720M
BEGIN:VTIMEZONE
TZID:UTC
BEGIN:STANDARD
DTSTART:20250725T173526
TZOFFSETFROM:+0000
TZOFFSETTO:+0000
END:STANDARD
END:VTIMEZONE
BEGIN:VEVENT
UID:319@https://eventsinplainsight.com
DTSTAMP:20260421T173526Z
DTSTART:20260614T103000Z
DTEND:20260615T010000Z
SUMMARY:Brandywine Roller Derby v RDG's B Team
DESCRIPTION:Brandywine Roller Derby v RDG's B Team
URL:https://myderbydiary.eventsinplainsight.com/events/319
LOCATION:2275 Lancaster Pike\, Reading\, PA\, United States
END:VEVENT
END:VCALENDAR