BEGIN:VCALENDAR
VERSION:2.0
PRODID:spatie/icalendar-generator
NAME:Penn Jersey Roller Derby - B Devils v RDG
X-WR-CALNAME:Penn Jersey Roller Derby - B Devils v RDG
REFRESH-INTERVAL;VALUE=DURATION:PT720M
X-PUBLISHED-TTL:PT720M
BEGIN:VTIMEZONE
TZID:UTC
BEGIN:STANDARD
DTSTART:20250725T172425
TZOFFSETFROM:+0000
TZOFFSETTO:+0000
END:STANDARD
END:VTIMEZONE
BEGIN:VEVENT
UID:320@https://eventsinplainsight.com
DTSTAMP:20260421T172425Z
DTSTART:20260823T223000Z
DTEND:20260824T010000Z
SUMMARY:Penn Jersey Roller Derby - B Devils v RDG
DESCRIPTION:Penn Jersey Roller Derby - B Devils v RDG
URL:https://myderbydiary.eventsinplainsight.com/events/320
LOCATION:2275 Lancaster Pike\, Reading\, PA\, United States
END:VEVENT
END:VCALENDAR