BEGIN:VCALENDAR
VERSION:2.0
PRODID:spatie/icalendar-generator
NAME:Patuxent Roller Derby - Patuxent Kelpies v RDG Pagoda City Rollers
X-WR-CALNAME:Patuxent Roller Derby - Patuxent Kelpies v RDG Pagoda City Rol
 lers
REFRESH-INTERVAL;VALUE=DURATION:PT720M
X-PUBLISHED-TTL:PT720M
BEGIN:VTIMEZONE
TZID:UTC
BEGIN:STANDARD
DTSTART:20250725T173048
TZOFFSETFROM:+0000
TZOFFSETTO:+0000
END:STANDARD
END:VTIMEZONE
BEGIN:VEVENT
UID:321@https://eventsinplainsight.com
DTSTAMP:20260421T173048Z
DTSTART:20260920T223000Z
DTEND:20260921T010000Z
SUMMARY:Patuxent Roller Derby - Patuxent Kelpies v RDG Pagoda City Rollers
DESCRIPTION:Patuxent Roller Derby - Patuxent Kelpies v RDG Pagoda City Roll
 ers
URL:https://myderbydiary.eventsinplainsight.com/events/321
LOCATION:2275 Lancaster Pike\, Reading\, PA\, United States
END:VEVENT
END:VCALENDAR