BEGIN:VCALENDAR
VERSION:2.0
PRODID:spatie/icalendar-generator
NAME:RDG v RDG Oct. 18th - Breast Cancer Fundraiser Game
X-WR-CALNAME:RDG v RDG Oct. 18th - Breast Cancer Fundraiser Game
REFRESH-INTERVAL;VALUE=DURATION:PT720M
X-PUBLISHED-TTL:PT720M
BEGIN:VTIMEZONE
TZID:UTC
BEGIN:STANDARD
DTSTART:20250725T171709
TZOFFSETFROM:+0000
TZOFFSETTO:+0000
END:STANDARD
END:VTIMEZONE
BEGIN:VEVENT
UID:322@https://eventsinplainsight.com
DTSTAMP:20260421T171709Z
DTSTART:20261018T141200Z
DTEND:20261018T151200Z
SUMMARY:RDG v RDG Oct. 18th - Breast Cancer Fundraiser Game
DESCRIPTION:RDG v RDG Oct. 18th - Breast Cancer Fundraiser Game
URL:https://myderbydiary.eventsinplainsight.com/events/322
LOCATION:2275 Lancaster Pike\, Reading\, PA\, United States
END:VEVENT
END:VCALENDAR