BEGIN:VCALENDAR
VERSION:2.0
PRODID:spatie/icalendar-generator
NAME:Dutchland Blitz v RDG Pagoda City Rollers
X-WR-CALNAME:Dutchland Blitz v RDG Pagoda City Rollers
REFRESH-INTERVAL;VALUE=DURATION:PT720M
X-PUBLISHED-TTL:PT720M
BEGIN:VTIMEZONE
TZID:UTC
BEGIN:STANDARD
DTSTART:20250725T172905
TZOFFSETFROM:+0000
TZOFFSETTO:+0000
END:STANDARD
END:VTIMEZONE
BEGIN:VEVENT
UID:323@https://eventsinplainsight.com
DTSTAMP:20260421T172905Z
DTSTART:20261115T233000Z
DTEND:20261116T020000Z
SUMMARY:Dutchland Blitz v RDG Pagoda City Rollers
DESCRIPTION:Dutchland Blitz v RDG Pagoda City Rollers
URL:https://myderbydiary.eventsinplainsight.com/events/323
LOCATION:2275 Lancaster Pike\, Reading\, PA\, United States
END:VEVENT
END:VCALENDAR