BEGIN:VCALENDAR
VERSION:2.0
PRODID:spatie/icalendar-generator
NAME:Home Game
X-WR-CALNAME:Home Game
REFRESH-INTERVAL;VALUE=DURATION:PT720M
X-PUBLISHED-TTL:PT720M
BEGIN:VTIMEZONE
TZID:UTC
BEGIN:STANDARD
DTSTART:20250726T035302
TZOFFSETFROM:+0000
TZOFFSETTO:+0000
END:STANDARD
END:VTIMEZONE
BEGIN:VEVENT
UID:324@https://eventsinplainsight.com
DTSTAMP:20260422T035302Z
DTSTART:20260516T220000Z
DTEND:20260517T010000Z
SUMMARY:Home Game
DESCRIPTION:Home Game
URL:https://myderbydiary.eventsinplainsight.com/events/324
LOCATION:815 White Pine Ln\, Pottstown\, PA\, USA
END:VEVENT
END:VCALENDAR