BEGIN:VCALENDAR
VERSION:2.0
PRODID:spatie/icalendar-generator
NAME:Summer Slam Scrimmage
X-WR-CALNAME:Summer Slam Scrimmage
REFRESH-INTERVAL;VALUE=DURATION:PT720M
X-PUBLISHED-TTL:PT720M
BEGIN:VTIMEZONE
TZID:UTC
BEGIN:STANDARD
DTSTART:20250726T035046
TZOFFSETFROM:+0000
TZOFFSETTO:+0000
END:STANDARD
END:VTIMEZONE
BEGIN:VEVENT
UID:325@https://eventsinplainsight.com
DTSTAMP:20260422T035046Z
DTSTART:20260620T220000Z
DTEND:20260621T010000Z
SUMMARY:Summer Slam Scrimmage
DESCRIPTION:Summer Slam Scrimmage
URL:https://myderbydiary.eventsinplainsight.com/events/325
LOCATION:815 White Pine Ln\, Pottstown\, PA\, USA
END:VEVENT
END:VCALENDAR