BEGIN:VCALENDAR
VERSION:2.0
PRODID:spatie/icalendar-generator
NAME:Playoffs
X-WR-CALNAME:Playoffs
REFRESH-INTERVAL;VALUE=DURATION:PT720M
X-PUBLISHED-TTL:PT720M
BEGIN:VTIMEZONE
TZID:UTC
BEGIN:STANDARD
DTSTART:20250726T035549
TZOFFSETFROM:+0000
TZOFFSETTO:+0000
END:STANDARD
END:VTIMEZONE
BEGIN:VEVENT
UID:326@https://eventsinplainsight.com
DTSTAMP:20260422T035549Z
DTSTART:20260919T220000Z
DTEND:20260920T010000Z
SUMMARY:Playoffs
DESCRIPTION:Playoffs
URL:https://myderbydiary.eventsinplainsight.com/events/326
LOCATION:815 White Pine Ln\, Pottstown\, PA\, USA
END:VEVENT
END:VCALENDAR