BEGIN:VCALENDAR
VERSION:2.0
PRODID:spatie/icalendar-generator
NAME:Championships
X-WR-CALNAME:Championships
REFRESH-INTERVAL;VALUE=DURATION:PT720M
X-PUBLISHED-TTL:PT720M
BEGIN:VTIMEZONE
TZID:UTC
BEGIN:STANDARD
DTSTART:20250726T035107
TZOFFSETFROM:+0000
TZOFFSETTO:+0000
END:STANDARD
END:VTIMEZONE
BEGIN:VEVENT
UID:327@https://eventsinplainsight.com
DTSTAMP:20260422T035107Z
DTSTART:20261017T220000Z
DTEND:20261018T010000Z
SUMMARY:Championships
DESCRIPTION:Champtionships
URL:https://myderbydiary.eventsinplainsight.com/events/327
LOCATION:815 White Pine Ln\, Pottstown\, PA\, USA
END:VEVENT
END:VCALENDAR