BEGIN:VCALENDAR
VERSION:2.0
PRODID:spatie/icalendar-generator
NAME:Fundraiser Scrimmage
X-WR-CALNAME:Fundraiser Scrimmage
REFRESH-INTERVAL;VALUE=DURATION:PT720M
X-PUBLISHED-TTL:PT720M
BEGIN:VTIMEZONE
TZID:UTC
BEGIN:STANDARD
DTSTART:20250726T035358
TZOFFSETFROM:+0000
TZOFFSETTO:+0000
END:STANDARD
END:VTIMEZONE
BEGIN:VEVENT
UID:328@https://eventsinplainsight.com
DTSTAMP:20260422T035358Z
DTSTART:20261114T230000Z
DTEND:20261115T020000Z
SUMMARY:Fundraiser Scrimmage
DESCRIPTION:November Scrimmage
URL:https://myderbydiary.eventsinplainsight.com/events/328
LOCATION:815 White Pine Ln\, Pottstown\, PA\, USA
END:VEVENT
END:VCALENDAR