BEGIN:VCALENDAR
VERSION:2.0
PRODID:spatie/icalendar-generator
NAME:IT’s GONNA BE MAY(hem)
X-WR-CALNAME:IT’s GONNA BE MAY(hem)
REFRESH-INTERVAL;VALUE=DURATION:PT720M
X-PUBLISHED-TTL:PT720M
BEGIN:VTIMEZONE
TZID:UTC
BEGIN:STANDARD
DTSTART:20250726T044521
TZOFFSETFROM:+0000
TZOFFSETTO:+0000
END:STANDARD
END:VTIMEZONE
BEGIN:VEVENT
UID:329@https://eventsinplainsight.com
DTSTAMP:20260422T044521Z
DTSTART:20260509T130000Z
DTEND:20260510T210000Z
SUMMARY:IT’s GONNA BE MAY(hem)
DESCRIPTION:IT’s GONNA BE MAY(hem)
URL:https://myderbydiary.eventsinplainsight.com/events/329
LOCATION:7600 Grand Ave\, Pittsburgh\, PA\, United States
END:VEVENT
END:VCALENDAR