BEGIN:VCALENDAR
VERSION:2.0
PRODID:spatie/icalendar-generator
NAME:Lehigh Valley Roller Derby Double Header
X-WR-CALNAME:Lehigh Valley Roller Derby Double Header
REFRESH-INTERVAL;VALUE=DURATION:PT720M
X-PUBLISHED-TTL:PT720M
BEGIN:VTIMEZONE
TZID:UTC
BEGIN:STANDARD
DTSTART:20250726T044307
TZOFFSETFROM:+0000
TZOFFSETTO:+0000
END:STANDARD
END:VTIMEZONE
BEGIN:VEVENT
UID:330@https://eventsinplainsight.com
DTSTAMP:20260422T044307Z
DTSTART:20260815T200000Z
DTEND:20260816T010000Z
SUMMARY:Lehigh Valley Roller Derby Double Header
DESCRIPTION:Lehigh Valley Roller Derby Double Header
URL:https://myderbydiary.eventsinplainsight.com/events/330
LOCATION:700 W Pierce St\, Easton\, PA\, United States
END:VEVENT
END:VCALENDAR