BEGIN:VCALENDAR
VERSION:2.0
PRODID:spatie/icalendar-generator
NAME:Home Opener Double Header – Let the Season Begin!
X-WR-CALNAME:Home Opener Double Header – Let the Season Begin!
REFRESH-INTERVAL;VALUE=DURATION:PT720M
X-PUBLISHED-TTL:PT720M
BEGIN:VTIMEZONE
TZID:UTC
BEGIN:STANDARD
DTSTART:20250726T045916
TZOFFSETFROM:+0000
TZOFFSETTO:+0000
END:STANDARD
END:VTIMEZONE
BEGIN:VEVENT
UID:331@https://eventsinplainsight.com
DTSTAMP:20260422T045916Z
DTSTART:20260502T190000Z
DTEND:20260503T000000Z
SUMMARY:Home Opener Double Header – Let the Season Begin!
DESCRIPTION:Home Opener Double Header – Let the Season Begin!
URL:https://myderbydiary.eventsinplainsight.com/events/331
LOCATION:319 W 3rd St\, Jamestown\, NY\, Canada
END:VEVENT
END:VCALENDAR