BEGIN:VCALENDAR
VERSION:2.0
PRODID:spatie/icalendar-generator
NAME:Fort Wayne Roller Derby home game
X-WR-CALNAME:Fort Wayne Roller Derby home game
REFRESH-INTERVAL;VALUE=DURATION:PT720M
X-PUBLISHED-TTL:PT720M
BEGIN:VTIMEZONE
TZID:UTC
BEGIN:STANDARD
DTSTART:20250726T044144
TZOFFSETFROM:+0000
TZOFFSETTO:+0000
END:STANDARD
END:VTIMEZONE
BEGIN:VEVENT
UID:332@https://eventsinplainsight.com
DTSTAMP:20260422T044144Z
DTSTART:20260503T160000Z
DTEND:20260504T025300Z
SUMMARY:Fort Wayne Roller Derby home game
DESCRIPTION:Fort Wayne Roller Derby home game
URL:https://myderbydiary.eventsinplainsight.com/events/332
LOCATION:3869 Ice Way\, Fort Wayne\, IN\, United States
END:VEVENT
END:VCALENDAR