BEGIN:VCALENDAR
VERSION:2.0
PRODID:spatie/icalendar-generator
NAME:A Toy Story Mixer
X-WR-CALNAME:A Toy Story Mixer
REFRESH-INTERVAL;VALUE=DURATION:PT720M
X-PUBLISHED-TTL:PT720M
BEGIN:VTIMEZONE
TZID:UTC
BEGIN:STANDARD
DTSTART:20250726T052751
TZOFFSETFROM:+0000
TZOFFSETTO:+0000
END:STANDARD
END:VTIMEZONE
BEGIN:VEVENT
UID:335@https://eventsinplainsight.com
DTSTAMP:20260422T052751Z
DTSTART:20260627T230000Z
DTEND:20260628T030000Z
SUMMARY:A Toy Story Mixer
DESCRIPTION:A Toy Story Mixer
URL:https://myderbydiary.eventsinplainsight.com/events/335
LOCATION:319 W 3rd St\, Jamestown\, NY\, Canada
END:VEVENT
END:VCALENDAR