BEGIN:VCALENDAR
VERSION:2.0
PRODID:spatie/icalendar-generator
NAME:A Hot Mess Express Mixer
X-WR-CALNAME:A Hot Mess Express Mixer
REFRESH-INTERVAL;VALUE=DURATION:PT720M
X-PUBLISHED-TTL:PT720M
BEGIN:VTIMEZONE
TZID:UTC
BEGIN:STANDARD
DTSTART:20250726T052939
TZOFFSETFROM:+0000
TZOFFSETTO:+0000
END:STANDARD
END:VTIMEZONE
BEGIN:VEVENT
UID:336@https://eventsinplainsight.com
DTSTAMP:20260422T052939Z
DTSTART:20260711T230000Z
DTEND:20260712T030000Z
SUMMARY:A Hot Mess Express Mixer
DESCRIPTION:A Hot Mess Express Mixer
URL:https://myderbydiary.eventsinplainsight.com/events/336
LOCATION:319 W 3rd St\, Jamestown\, NY\, Canada
END:VEVENT
END:VCALENDAR