BEGIN:VCALENDAR
VERSION:2.0
PRODID:spatie/icalendar-generator
NAME:Home Game
X-WR-CALNAME:Home Game
REFRESH-INTERVAL;VALUE=DURATION:PT720M
X-PUBLISHED-TTL:PT720M
BEGIN:VTIMEZONE
TZID:UTC
BEGIN:STANDARD
DTSTART:20250726T052306
TZOFFSETFROM:+0000
TZOFFSETTO:+0000
END:STANDARD
END:VTIMEZONE
BEGIN:VEVENT
UID:337@https://eventsinplainsight.com
DTSTAMP:20260422T052306Z
DTSTART:20260801T230000Z
DTEND:20260802T030000Z
SUMMARY:Home Game
DESCRIPTION:Home Game
URL:https://myderbydiary.eventsinplainsight.com/events/337
LOCATION:319 W 3rd St\, Jamestown\, NY\, Canada
END:VEVENT
END:VCALENDAR