BEGIN:VCALENDAR
VERSION:2.0
PRODID:spatie/icalendar-generator
NAME:Roller Derby Double Header @ The Steampunk Festival
X-WR-CALNAME:Roller Derby Double Header @ The Steampunk Festival
REFRESH-INTERVAL;VALUE=DURATION:PT720M
X-PUBLISHED-TTL:PT720M
BEGIN:VTIMEZONE
TZID:UTC
BEGIN:STANDARD
DTSTART:20191112T160000
TZOFFSETFROM:+0000
TZOFFSETTO:+0000
END:STANDARD
END:VTIMEZONE
BEGIN:VEVENT
UID:52@https://eventsinplainsight.com
DTSTAMP:20260425T163733Z
DTSTART:20200808T160000Z
DTEND:20200808T200000Z
SUMMARY:Roller Derby Double Header @ The Steampunk Festival
DESCRIPTION:Roller Derby Double Header @ Coldwater Steampunk Festival
URL:https://myderbydiary.eventsinplainsight.com/events/52
LOCATION:11 Michael Anne Drive\, Coldwater\, ON\, Canada
END:VEVENT
END:VCALENDAR