BEGIN:VCALENDAR
VERSION:2.0
PRODID:spatie/icalendar-generator
NAME:Coaching workshop - Structuring and building your training session
X-WR-CALNAME:Coaching workshop - Structuring and building your training ses
 sion
REFRESH-INTERVAL;VALUE=DURATION:PT720M
X-PUBLISHED-TTL:PT720M
BEGIN:VTIMEZONE
TZID:UTC
BEGIN:STANDARD
DTSTART:20190423T190000
TZOFFSETFROM:+0000
TZOFFSETTO:+0000
END:STANDARD
END:VTIMEZONE
BEGIN:VEVENT
UID:56@https://eventsinplainsight.com
DTSTAMP:20260425T153127Z
DTSTART:20200118T190000Z
DTEND:20200118T203000Z
SUMMARY:Coaching workshop - Structuring and building your training session
DESCRIPTION:Work together with other coaches to create well-structured trai
 ning plans
URL:https://myderbydiary.eventsinplainsight.com/events/56
LOCATION:Online\, Online\, Global
END:VEVENT
END:VCALENDAR