BEGIN:VCALENDAR
VERSION:2.0
PRODID:spatie/icalendar-generator
NAME:Scrimmage Skills
X-WR-CALNAME:Scrimmage Skills
REFRESH-INTERVAL;VALUE=DURATION:PT720M
X-PUBLISHED-TTL:PT720M
BEGIN:VTIMEZONE
TZID:UTC
BEGIN:STANDARD
DTSTART:20190601T193000
TZOFFSETFROM:+0000
TZOFFSETTO:+0000
END:STANDARD
END:VTIMEZONE
BEGIN:VEVENT
UID:65@https://eventsinplainsight.com
DTSTAMP:20260422T043204Z
DTSTART:20200226T193000Z
DTEND:20200401T210000Z
SUMMARY:Scrimmage Skills
DESCRIPTION:If you fancy some more time on skates\, focussed skill work\, a
 nd direct translation into scrimmage tactics\, come along!
URL:https://myderbydiary.eventsinplainsight.com/events/65
LOCATION:Woodhouse Hall Rd\, Huddersfield\, West Yorkshire\, England
END:VEVENT
END:VCALENDAR