BEGIN:VCALENDAR
VERSION:2.0
PRODID:spatie/icalendar-generator
NAME:CANCELLED - West Track Story 8
X-WR-CALNAME:CANCELLED - West Track Story 8
REFRESH-INTERVAL;VALUE=DURATION:PT720M
X-PUBLISHED-TTL:PT720M
BEGIN:VTIMEZONE
TZID:UTC
BEGIN:STANDARD
DTSTART:20190820T090000
TZOFFSETFROM:+0000
TZOFFSETTO:+0000
END:STANDARD
END:VTIMEZONE
BEGIN:VEVENT
UID:76@https://eventsinplainsight.com
DTSTAMP:20260425T153127Z
DTSTART:20200516T090000Z
DTEND:20200517T180000Z
SUMMARY:CANCELLED - West Track Story 8
DESCRIPTION:West Track Story 8: A WFTDA Recognized Tournament
URL:https://myderbydiary.eventsinplainsight.com/events/76
LOCATION:Nantes\, France
END:VEVENT
END:VCALENDAR