BEGIN:VCALENDAR
VERSION:2.0
PRODID:spatie/icalendar-generator
NAME:Uff Da Palooza 2020
X-WR-CALNAME:Uff Da Palooza 2020
REFRESH-INTERVAL;VALUE=DURATION:PT720M
X-PUBLISHED-TTL:PT720M
BEGIN:VTIMEZONE
TZID:UTC
BEGIN:STANDARD
DTSTART:20190910T090000
TZOFFSETFROM:+0000
TZOFFSETTO:+0000
END:STANDARD
END:VTIMEZONE
BEGIN:VEVENT
UID:79@https://eventsinplainsight.com
DTSTAMP:20260425T163733Z
DTSTART:20200606T090000Z
DTEND:20200607T203000Z
SUMMARY:Uff Da Palooza 2020
DESCRIPTION:Uff Da Palooza 2020: A WFTDA Recognized Tournament
URL:https://myderbydiary.eventsinplainsight.com/events/79
LOCATION:Wausau\, Wisconsin\, United States
END:VEVENT
END:VCALENDAR