BEGIN:VCALENDAR
VERSION:2.0
PRODID:spatie/icalendar-generator
NAME:9th Annual Deep Blue Tournament
X-WR-CALNAME:9th Annual Deep Blue Tournament
REFRESH-INTERVAL;VALUE=DURATION:PT720M
X-PUBLISHED-TTL:PT720M
BEGIN:VTIMEZONE
TZID:UTC
BEGIN:STANDARD
DTSTART:20190917T080000
TZOFFSETFROM:+0000
TZOFFSETTO:+0000
END:STANDARD
END:VTIMEZONE
BEGIN:VEVENT
UID:80@https://eventsinplainsight.com
DTSTAMP:20260425T132920Z
DTSTART:20200613T080000Z
DTEND:20200614T233000Z
SUMMARY:9th Annual Deep Blue Tournament
DESCRIPTION:9th Annual Deep Blue Tournament: A WFTDA Recognized Tournament
URL:https://myderbydiary.eventsinplainsight.com/events/80
LOCATION:Carson City\, Nevada\, United States
END:VEVENT
END:VCALENDAR