BEGIN:VCALENDAR
VERSION:2.0
PRODID:spatie/icalendar-generator
NAME:CANCELLED - DRRD'y Double Header
X-WR-CALNAME:CANCELLED - DRRD'y Double Header
REFRESH-INTERVAL;VALUE=DURATION:PT720M
X-PUBLISHED-TTL:PT720M
BEGIN:VTIMEZONE
TZID:UTC
BEGIN:STANDARD
DTSTART:20190806T163000
TZOFFSETFROM:+0000
TZOFFSETTO:+0000
END:STANDARD
END:VTIMEZONE
BEGIN:VEVENT
UID:88@https://eventsinplainsight.com
DTSTAMP:20260421T101808Z
DTSTART:20200502T163000Z
DTEND:20200502T213000Z
SUMMARY:CANCELLED - DRRD'y Double Header
DESCRIPTION:DRRD'y Farmers play at 5 and the Atom Smashers take to the trac
 k at 7:00pm!
URL:https://myderbydiary.eventsinplainsight.com/events/88
LOCATION:155 Arena Street\, Oshawa\, Ontario\, Canada
END:VEVENT
END:VCALENDAR