BEGIN:VCALENDAR
VERSION:2.0
PRODID:spatie/icalendar-generator
NAME:DRRD'y Home Closer
X-WR-CALNAME:DRRD'y Home Closer
REFRESH-INTERVAL;VALUE=DURATION:PT720M
X-PUBLISHED-TTL:PT720M
BEGIN:VTIMEZONE
TZID:UTC
BEGIN:STANDARD
DTSTART:20191029T163000
TZOFFSETFROM:+0000
TZOFFSETTO:+0000
END:STANDARD
END:VTIMEZONE
BEGIN:VEVENT
UID:89@https://eventsinplainsight.com
DTSTAMP:20260424T020420Z
DTSTART:20200725T163000Z
DTEND:20200725T213000Z
SUMMARY:DRRD'y Home Closer
DESCRIPTION:DRRD'y Farmers play at 5:00pm and the Motor City Madames take t
 o the track at 7:00pm!
URL:https://myderbydiary.eventsinplainsight.com/events/89
LOCATION:155 Arena Street\, Oshawa\, Ontario\, Canada
END:VEVENT
END:VCALENDAR