BEGIN:VCALENDAR
VERSION:2.0
PRODID:spatie/icalendar-generator
NAME:Derby Daze - Double Header
X-WR-CALNAME:Derby Daze - Double Header
REFRESH-INTERVAL;VALUE=DURATION:PT720M
X-PUBLISHED-TTL:PT720M
BEGIN:VTIMEZONE
TZID:UTC
BEGIN:STANDARD
DTSTART:20250729T163824
TZOFFSETFROM:+0000
TZOFFSETTO:+0000
END:STANDARD
END:VTIMEZONE
BEGIN:VEVENT
UID:92@https://eventsinplainsight.com
DTSTAMP:20260425T163824Z
DTSTART:20260523T160000Z
DTEND:20260523T210000Z
SUMMARY:Derby Daze - Double Header
DESCRIPTION:Derby Daze - Double Header
URL:https://myderbydiary.eventsinplainsight.com/events/92
LOCATION:303 York Street\, Kingston\, Ontario\, Canada
END:VEVENT
END:VCALENDAR